BEGIN:VCALENDAR
VERSION:2.0
PRODID:-//Tukios.com/
BEGIN:VEVENT
UID:e26d08c2-fb7b-48ba-b7d3-1fb3e17406ae@www.thomaspoteet.com
DTSTAMP:20260420T190515Z
DTSTART:20260422T220000Z
DTEND:20260423T000000Z
SUMMARY:Visitation
DESCRIPTION:
URL:https://www.thomaspoteet.com/obituaries/christine-wyatt
LOCATION:Thomas Poteet & Son Funeral Directors 214 Davis Road  Augusta GA 
	30907
GEO:33.5033186;-82.0821639
END:VEVENT
END:VCALENDAR