BEGIN:VCALENDAR
VERSION:2.0
PRODID:-//Tukios.com/
BEGIN:VEVENT
UID:78beea30-3459-4c16-aa55-4c34ecce9d5f@www.thomaspoteet.com
DTSTAMP:20260420T191043Z
DTSTART:20260423T150000Z
DTEND:20260423T160000Z
SUMMARY:Funeral Service
DESCRIPTION:
URL:https://www.thomaspoteet.com/obituaries/christine-wyatt
LOCATION:Pierce Memorial United Methodist Church 1441 Jackson Road  
	Augusta GA 30909
GEO:33.472402;-82.0697252
END:VEVENT
END:VCALENDAR