BEGIN:VCALENDAR
VERSION:2.0
PRODID:-//Tukios.com/
BEGIN:VEVENT
UID:b072f593-74ca-49e9-a652-62f6f93b63c5@www.thomaspoteet.com
DTSTAMP:20260420T191243Z
DTSTART:20260423
SUMMARY:Burial
DESCRIPTION:
URL:https://www.thomaspoteet.com/obituaries/christine-wyatt
LOCATION: 2700 Deans Bridge Road  Augusta GA 30906
GEO:33.4318544;-82.0292995
END:VEVENT
END:VCALENDAR