BEGIN:VCALENDAR
VERSION:2.0
PRODID:-//Tukios.com/
BEGIN:VEVENT
UID:2cb4aed2-0c19-46fc-af7c-408ae90711a9@www.thomaspoteet.com
DTSTAMP:20260422T225610Z
DTSTART:20260429T150000Z
DTEND:20260429T160000Z
SUMMARY:Funeral Service
DESCRIPTION:
URL:https://www.thomaspoteet.com/obituaries/douglas-clepper
LOCATION: 3500 Walton Way Extension  Augusta GA 30909
GEO:33.4847015;-82.0729756
END:VEVENT
END:VCALENDAR