BEGIN:VCALENDAR
VERSION:2.0
PRODID:-//Tukios.com/
BEGIN:VEVENT
UID:faacabaf-2d06-4468-89dd-ce3de8630bab@www.thomaspoteet.com
DTSTAMP:20260421T234213Z
DTSTART:20260424T170000Z
DTEND:20260424T180000Z
SUMMARY:Memorial Mass
DESCRIPTION:
URL:https://www.thomaspoteet.com/obituaries/james-duncan
LOCATION: 1420 Monte Sano Avenue  Augusta GA 30904
GEO:33.4724873;-82.0275164
END:VEVENT
END:VCALENDAR