BEGIN:VCALENDAR
VERSION:2.0
PRODID:-//Tukios.com/
BEGIN:VEVENT
UID:10130828-ee92-4702-887c-24e82c4feddc@www.thomaspoteet.com
DTSTAMP:20260421T234641Z
DTSTART:20260423T220000Z
DTEND:20260423T223000Z
SUMMARY:Rosary
DESCRIPTION:
URL:https://www.thomaspoteet.com/obituaries/james-duncan
LOCATION: 214 Davis Road  Augusta GA 30907
GEO:33.5033186;-82.0821639
END:VEVENT
END:VCALENDAR