BEGIN:VCALENDAR
VERSION:2.0
PRODID:-//Tukios.com/
BEGIN:VEVENT
UID:ad5f1bd8-4178-4749-8b8c-e164797015d4@www.thomaspoteet.com
DTSTAMP:20260420T235320Z
DTSTART:20260429T130000Z
DTEND:20260429T140000Z
SUMMARY:Visitation
DESCRIPTION:
URL:https://www.thomaspoteet.com/obituaries/jeff-brown
LOCATION:Thomas Poteet & Son Funeral Directors 214 Davis Road  Augusta GA 
	30907
GEO:33.5033186;-82.0821639
END:VEVENT
END:VCALENDAR