BEGIN:VCALENDAR
VERSION:2.0
PRODID:-//Tukios.com/
BEGIN:VEVENT
UID:3a427ddf-0fe8-409d-b563-69bf0682a20f@www.thomaspoteet.com
DTSTAMP:20260420T235402Z
DTSTART:20260429T140000Z
DTEND:20260429T150000Z
SUMMARY:Funeral Service
DESCRIPTION:
URL:https://www.thomaspoteet.com/obituaries/jeff-brown
LOCATION:Thomas Poteet & Son Funeral Directors 214 Davis Road  Augusta GA 
	30907
GEO:33.5033186;-82.0821639
END:VEVENT
END:VCALENDAR