BEGIN:VCALENDAR
VERSION:2.0
PRODID:-//Tukios.com/
BEGIN:VEVENT
UID:a5a7bf23-6ac0-4e01-9276-824f4755697c@www.thomaspoteet.com
DTSTAMP:20260420T235709Z
DTSTART:20260429
SUMMARY:Interment
DESCRIPTION:Following service
URL:https://www.thomaspoteet.com/obituaries/jeff-brown
LOCATION: 4170 Percival Road  Columbia SC 29229
GEO:34.0895923;-80.854615
END:VEVENT
END:VCALENDAR