BEGIN:VCALENDAR
VERSION:2.0
PRODID:-//Tukios.com/
BEGIN:VEVENT
UID:572f5a14-e33d-4857-880f-62dfedeeb1fc@www.thomaspoteet.com
DTSTAMP:20260425T233919Z
DTSTART:20260430T150000Z
DTEND:20260430T160000Z
SUMMARY:Funeral Service
DESCRIPTION:
URL:https://www.thomaspoteet.com/obituaries/john-techaira
LOCATION:St. Joseph Catholic Church 2607 Lumpkin Road  Augusta GA 30906
GEO:33.4273682;-82.0536452
END:VEVENT
END:VCALENDAR