BEGIN:VCALENDAR
VERSION:2.0
PRODID:-//Tukios.com/
BEGIN:VEVENT
UID:3c9ee277-f53c-45b5-9d31-653e6e3c3ab6@www.thomaspoteet.com
DTSTAMP:20260420T211143Z
DTSTART:20260425T140000Z
DTEND:20260425T160000Z
SUMMARY:Visitation
DESCRIPTION:
URL:https://www.thomaspoteet.com/obituaries/patrick-pat-clayton
LOCATION: 214 Davis Road  Augusta GA 30907
GEO:33.5033186;-82.0821639
END:VEVENT
END:VCALENDAR