BEGIN:VCALENDAR
VERSION:2.0
PRODID:-//Tukios.com/
BEGIN:VEVENT
UID:3a7f6196-c77e-4ab5-92e6-c6774d15f7f7@www.thomaspoteet.com
DTSTAMP:20260420T210733Z
DTSTART:20260425T160000Z
DTEND:20260425T170000Z
SUMMARY:Memorial Service
DESCRIPTION:
URL:https://www.thomaspoteet.com/obituaries/patrick-pat-clayton
LOCATION: 214 Davis Road  Augusta GA 30907
GEO:33.5033186;-82.0821639
END:VEVENT
END:VCALENDAR