BEGIN:VCALENDAR
VERSION:2.0
PRODID:-//Tukios.com/
BEGIN:VEVENT
UID:ac96362f-a1dd-41f8-8bd0-d73aedb91d3a@www.thomaspoteet.com
DTSTAMP:20260423T204543Z
DTSTART:20260427T140000Z
DTEND:20260427T150000Z
SUMMARY:Visitation
DESCRIPTION:
URL:https://www.thomaspoteet.com/obituaries/pauline-dominguez
LOCATION: 214 Davis Road  Augusta GA 30907
GEO:33.5033186;-82.0821639
END:VEVENT
END:VCALENDAR