BEGIN:VCALENDAR
VERSION:2.0
PRODID:-//Tukios.com/
BEGIN:VEVENT
UID:76a657e2-4bf2-4f3e-a2d1-8044a283f937@www.thomaspoteet.com
DTSTAMP:20260423T204905Z
DTSTART:20260427T150000Z
DTEND:20260427T160000Z
SUMMARY:Memorial Service
DESCRIPTION:
URL:https://www.thomaspoteet.com/obituaries/pauline-dominguez
LOCATION: 214 Davis Road  Augusta GA 30907
GEO:33.5033186;-82.0821639
END:VEVENT
END:VCALENDAR