BEGIN:VCALENDAR
VERSION:2.0
PRODID:-//Tukios.com/
BEGIN:VEVENT
UID:ac8a46c7-06e3-4a8d-9377-64118a65ac73@www.thomaspoteet.com
DTSTAMP:20260423T204507Z
DTSTART:20260427
SUMMARY:Burial
DESCRIPTION:
URL:https://www.thomaspoteet.com/obituaries/pauline-dominguez
LOCATION: 2601 Wheeler Road  Augusta GA 30904
GEO:33.4889449;-82.0277718
END:VEVENT
END:VCALENDAR