BEGIN:VCALENDAR
VERSION:2.0
PRODID:-//Tukios.com/
BEGIN:VEVENT
UID:4706430d-b023-4884-9dca-029614783dee@www.thomaspoteet.com
DTSTAMP:20260425T174521Z
DTSTART:20260427T220000Z
DTEND:20260428T000000Z
SUMMARY:Visitation
DESCRIPTION:
URL:https://www.thomaspoteet.com/obituaries/rachel-harden
LOCATION:Thomas Poteet & Son Funeral Directors 214 Davis Road  Augusta GA 
	30907
GEO:33.5033186;-82.0821639
END:VEVENT
END:VCALENDAR