BEGIN:VCALENDAR
VERSION:2.0
PRODID:-//Tukios.com/
BEGIN:VEVENT
UID:401e191c-98c9-4677-a7fa-48290f4c9cc5@www.thomaspoteet.com
DTSTAMP:20260425T174804Z
DTSTART:20260428T190000Z
DTEND:20260428T200000Z
SUMMARY:Funeral Service
DESCRIPTION:
URL:https://www.thomaspoteet.com/obituaries/rachel-harden
LOCATION:Chapel of Thomas Poteet & Son Funeral Directors 214 Davis Road  
	Augusta GA 30907
GEO:33.5033186;-82.0821639
END:VEVENT
END:VCALENDAR