BEGIN:VCALENDAR
VERSION:2.0
PRODID:-//Tukios.com/
BEGIN:VEVENT
UID:119b89a0-b17f-419b-941e-0dfc9d1f39b9@www.thomaspoteet.com
DTSTAMP:20260421T173325Z
DTSTART:20260423T180000Z
DTEND:20260423T190000Z
SUMMARY:Funeral Service
DESCRIPTION:
URL:https://www.thomaspoteet.com/obituaries/robert-bobby-hawes
LOCATION: 3500 Walton Way Ext  Augusta GA 30909
GEO:33.4842109;-82.0742564
END:VEVENT
END:VCALENDAR