BEGIN:VCALENDAR
VERSION:2.0
PRODID:-//Tukios.com/
BEGIN:VEVENT
UID:e3700420-f701-4cba-b135-aaf31f199360@www.thomaspoteet.com
DTSTAMP:20260421T173959Z
DTSTART:20260423
SUMMARY:Visitation
DESCRIPTION:Following service and committal
URL:https://www.thomaspoteet.com/obituaries/robert-bobby-hawes
LOCATION: 3500 Walton Way Ext  Augusta GA 30909
GEO:33.4842109;-82.0742564
END:VEVENT
END:VCALENDAR