BEGIN:VCALENDAR
VERSION:2.0
PRODID:-//Tukios.com/
BEGIN:VEVENT
UID:9c82ffd0-e9e6-4de2-b831-1492eb838e4a@www.thomaspoteet.com
DTSTAMP:20260421T173836Z
DTSTART:20260423
SUMMARY:Committal of Ashes
DESCRIPTION:Following service in Memorial Garden
URL:https://www.thomaspoteet.com/obituaries/robert-bobby-hawes
LOCATION: 3500 Walton Way Ext  Augusta GA 30909
GEO:33.4842109;-82.0742564
END:VEVENT
END:VCALENDAR